BEGIN:VCALENDAR
VERSION:1.0
PRODID:-//Octet Cloud//vPim 13.11.11//EN
CALSCALE:Gregorian
BEGIN:VEVENT
DTSTART:20131217T130000
DTEND:20131217T150000
SUMMARY:Technical Advisory Committee Meeting #1
DESCRIPTION:This meeting is intended to provide an opportunity for Technica
 l Advisory Committee (TAC) members to provide feedback on the revised draft
  vision and guiding principles and Tech Memos 1-5.
URL:https://projectcomment.com/websites/17/meetings/128
CREATED:20260419T060110
LAST-MODIFIED:20260419T060110
SEQUENCE:0
CLASS:PRIVATE
END:VEVENT
END:VCALENDAR
